Workbook
Name liste_reponse: 'data base'!#REF!
Name notation1: 'data base'!#REF!
Name reponse: 'data base'!#REF!
Name reponse2: 'data base'!#REF!

Sheet Lietošanas_instrukcija
D1: 15.pielikums Balvu novada energopārvaldības sistēmas rokasgrāmatai
A2: Iekšējā audita protokols Nr.
A4: Lietošanas gadījumi
B5: Šis rīks ir ISO 50001 EPS iekšējā audita veidne
A7: Apraksts
B8: Lapā 'kopsavilkums' ir uzskaitīti galvenie audita elementi (konteksts un rezultāti)
B9: Lapā "anketa" pārskata katru standarta elementu
B10: Aizpildot anketu, tiek izstrādāti divi grafiki
A12: Darbības procedūra
B13: Sākt, ievadot informāciju izklājlapā "Kopsavilkums", pirmo daļu
B14: Tad aizpilda izklājlapu "Anketa"
B15: Noslēdzoties, aizpilda iztrūkstošās daļa izklājlapā "Kopsavilkums"
B16: Teksta elementi jāievada tikai zilajos un dzeltenajos kvadrātos.
A18: Apzīmējumi
B19: NC = Neatbilstība - IP = Novērojumi
A21: Pamatojums atzīmes izvēlei
B22: 0 | C22: nav pierādījumi prasību izpildei pašvaldībā
B23: 1 | C23: vāji pierādījumu prasības izpildē pašvaldībā
B24: 2 | C24: prasības ir gandrīz pilnībā izpildītas, bet ir iespējas uzlabojumiem
B25: 3 | C25: Prasības ir pilnībā ņemtas vērā un sniegti pierādījumi
A27: Atzīmes par izpildi
B28: Izpildīts
B29: Daļēji izpildīts
B30: Tiks izpildīts

Sheet Kopsavilkums
H1: Balvu novads
D2: Iekšējā audita ziņojums
F3: ISO 50001 v2018
D4: Audita datums | F4: …
D5: Ziņojuma datums | F5: …
A8: Auditētā vieta un EPS sektori
A10: Atbildīgie par iekšējo auditu
A12: Satiktie cilvēki
A13: Vārds | C13: Amats | F13: Vārds | H13: Amats
A18: Galvenā auditora vārds, uzvārds, paraksts: ….. __________________
A20: Audita pārskats. Vispārējais iekšējā audita novērtējums un novērojumi:
A23: Atbilstības procentuālā vērtība | E23: kopā | F23: =Anketa!J40 -> 0
A25: Neatbilstību skaits | D25: =Anketa!H40 -> 0 | H25: Novērojumu skaits | I25: =Anketa!I40 -> 0

Sheet Anketa
A1: Vietējā iestāde | D1: =Kopsavilkums!H1 -> Balvu novads | G1: =Kopsavilkums!F4 -> … | P1: Komentārs par tālāko darbību/izpildi
E2: Auditors | F2: Auditētais sektors | G2: Nozīmīgākie novērojumi | H2: NC | I2: IP | J2: Atzīme | P2: Cēlonis/korekcija, korektīvā darbība/preventīvā darbība | Q2: Plānotais izpildes datums | R2: Atzīmes par izpildi
C3: Vai ir jau veikts iekšējais ISO 50001 audits?
C4: Vai ir ņemts vērā NC un iepriekšējās piezīmes?
A6: 4 | B6: Organizācijas kontekts | J6: =M6/N6 -> 0 | M6: =SUM(J7:J10) -> 0 | N6: =3*4 -> 12
B7: 4.1 | C7: Izpratne par organizāciju un tās kontekstu | K7: =J7/3 -> 0
B8: 4.2 | C8: Izpratne par ieinteresēto pušu vajadzībām un ekspektācijām | K8: =J8/3 -> 0
B9: 4.3 | C9: Energopārvaldības sistēmas darbības jomas noteikšana | K9: =J9/3 -> 0
B10: 4.4 | C10: Energopārvaldības sistēma | K10: =J10/3 -> 0
A11: 5 | B11: Vadība | J11: =M11/N11 -> 0 | M11: =SUM(J12:J14) -> 0 | N11: =3*3 -> 9
B12: 5.1 | C12: Vadība un apņemšanās | K12: =J12/3 -> 0
B13: 5.2 | C13: Energopolitika | K13: =J13/3 -> 0
B14: 5.3 | C14: Organizāciju loma, atbildība un iestādes | K14: =J14/3 -> 0
A15: 6 | B15: Plānošana | J15: =M15/N15 -> 0 | M15: =SUM(J16:J21) -> 0 | N15: =3*6 -> 18
B16: 6.1 | C16: Darbības risku un iespēju ievērošana | K16: =J16/3 -> 0
B17: 6.2 | C17: Mērķi, enerģētikas mērķi un plānošana to sasniegšanai | K17: =J17/3 -> 0
B18: 6.3 | C18: Energopārskats | K18: =J18/3 -> 0
B19: 6.4 | C19: Energoefektivitātes rādītāji | K19: =J19/3 -> 0
B20: 6.5 | C20: Enerģijas bāzes līnija | K20: =J20/3 -> 0
B21: 6.6 | C21: Energodatu vākšanas plānošana | K21: =J21/3 -> 0
A22: 7 | B22: Atbalsts | J22: =M22/N22 -> 0 | M22: =SUM(J23:J27) -> 0 | N22: =3*5 -> 15
B23: 7.1 | C23: Resursi
B24: 7.2 | C24: Kompetence | K24: =J24/3 -> 0
B25: 7.3 | C25: Izpratne | K25: =J25/3 -> 0
B26: 7.4 | C26: Komunikācija | K26: =J26/3 -> 0
B27: 7.5 | C27: Dokumentēta informācija | K27: =J27/3 -> 0
A28: 8 | B28: Darbība | J28: =M28/N28 -> 0 | M28: =SUM(J29:J31) -> 0 | N28: =3*3 -> 9
B29: 8.1 | C29: Darbības plānošana un kontrole | K29: =J29/3 -> 0
B30: 8.2 | C30: Projektēšana | K30: =J30/3 -> 0
B31: 8.3 | C31: Iepirkums | K31: =J31/3 -> 0
A32: 9 | B32: Snieguma novērtēšana | J32: =M32/N32 -> 0 | M32: =SUM(J33:J35) -> 0 | N32: =3*3 -> 9
B33: 9.1 | C33: Enerģijas patēriņa un EPS uzraudzība, mērīšana, analīze un novērtēšana | K33: =J33/3 -> 0
B34: 9.2 | C34: Iekšējais audits | K34: =J34/3 -> 0
B35: 9.3 | C35: Vadības pārskats | K35: =J35/3 -> 0
A36: 10 | B36: Uzlabojums | J36: =M36/N36 -> 0 | M36: =SUM(J37:J38) -> 0 | N36: =3*2 -> 6
B37: 10.1 | C37: Neatbilstības un korektīvie pasākumi | K37: =J37/3 -> 0
B38: 10.2 | C38: Nepārtraukta uzlabošana | K38: =J38/3 -> 0
G40: Kopējā attīstība | H40: =SUM(H7:H38) -> 0 | I40: =SUM(I7:I38) -> 0 | J40: =SUM(M6:M38)/SUM(N6:N38) -> 0

Sheet data base
A5: =Anketa!B7&" "&Anketa!C7 -> 4.1 Izpratne par organizāciju un tās kontekstu | B5: =Anketa!K7 -> 0 | D5: =CONCATENATE(Anketa!A6&" "&Anketa!B6) -> 4 Organizācijas kontekts | E5: =Anketa!J6 -> 0
A6: =Anketa!B8&" "&Anketa!C8 -> 4.2 Izpratne par ieinteresēto pušu vajadzībām un ekspektācijām | B6: =Anketa!K8 -> 0 | D6: =CONCATENATE(Anketa!A11&" "&Anketa!B11) -> 5 Vadība | E6: =Anketa!J11 -> 0
A7: =Anketa!B9&" "&Anketa!C9 -> 4.3 Energopārvaldības sistēmas darbības jomas noteikšana | B7: =Anketa!K9 -> 0 | D7: =CONCATENATE(Anketa!A15&" "&Anketa!B15) -> 6 Plānošana | E7: =Anketa!J15 -> 0
A8: =Anketa!B10&" "&Anketa!C10 -> 4.4 Energopārvaldības sistēma | B8: =Anketa!K10 -> 0 | D8: =CONCATENATE(Anketa!A22&" "&Anketa!B22) -> 7 Atbalsts | E8: =Anketa!J22 -> 0
A9: =Anketa!B12&" "&Anketa!C12 -> 5.1 Vadība un apņemšanās | B9: =Anketa!K12 -> 0 | D9: =CONCATENATE(Anketa!A28&" "&Anketa!B28) -> 8 Darbība | E9: =Anketa!J28 -> 0
A10: =Anketa!B13&" "&Anketa!C13 -> 5.2 Energopolitika | B10: =Anketa!K13 -> 0 | D10: =CONCATENATE(Anketa!A32&" "&Anketa!B32) -> 9 Snieguma novērtēšana | E10: =Anketa!J32 -> 0
A11: =Anketa!B14&" "&Anketa!C14 -> 5.3 Organizāciju loma, atbildība un iestādes | B11: =Anketa!K14 -> 0 | D11: =CONCATENATE(Anketa!A36&" "&Anketa!B36) -> 10 Uzlabojums | E11: =Anketa!J36 -> 0
A12: =Anketa!B16&" "&Anketa!C16 -> 6.1 Darbības risku un iespēju ievērošana | B12: =Anketa!K16 -> 0
A13: =Anketa!B17&" "&Anketa!C17 -> 6.2 Mērķi, enerģētikas mērķi un plānošana to sasniegšanai | B13: =Anketa!K17 -> 0
A14: =Anketa!B18&" "&Anketa!C18 -> 6.3 Energopārskats | B14: =Anketa!K18 -> 0
A15: =Anketa!B19&" "&Anketa!C19 -> 6.4 Energoefektivitātes rādītāji | B15: =Anketa!K19 -> 0
A16: =Anketa!B20&" "&Anketa!C20 -> 6.5 Enerģijas bāzes līnija | B16: =Anketa!K20 -> 0
A17: =Anketa!B21&" "&Anketa!C21 -> 6.6 Energodatu vākšanas plānošana | B17: =Anketa!K21 -> 0
A18: =Anketa!B23&" "&Anketa!C23 -> 7.1 Resursi | B18: =Anketa!K23 -> 0
A19: =Anketa!B24&" "&Anketa!C24 -> 7.2 Kompetence | B19: =Anketa!K24 -> 0
A20: =Anketa!B25&" "&Anketa!C25 -> 7.3 Izpratne | B20: =Anketa!K25 -> 0
A21: =Anketa!B26&" "&Anketa!C26 -> 7.4 Komunikācija | B21: =Anketa!K26 -> 0
A22: =Anketa!B27&" "&Anketa!C27 -> 7.5 Dokumentēta informācija | B22: =Anketa!K27 -> 0
A23: =Anketa!B29&" "&Anketa!C29 -> 8.1 Darbības plānošana un kontrole | B23: =Anketa!K29 -> 0
A24: =Anketa!B30&" "&Anketa!C30 -> 8.2 Projektēšana | B24: =Anketa!K30 -> 0
A25: =Anketa!B31&" "&Anketa!C31 -> 8.3 Iepirkums | B25: =Anketa!K31 -> 0
A26: =Anketa!B33&" "&Anketa!C33 -> 9.1 Enerģijas patēriņa un EPS uzraudzība, mērīšana, analīze un novērtēšana | B26: =Anketa!K33 -> 0
A27: =Anketa!B34&" "&Anketa!C34 -> 9.2 Iekšējais audits | B27: =Anketa!K34 -> 0
A28: =Anketa!B35&" "&Anketa!C35 -> 9.3 Vadības pārskats | B28: =Anketa!K35 -> 0
A29: =Anketa!B37&" "&Anketa!C37 -> 10.1 Neatbilstības un korektīvie pasākumi | B29: =Anketa!K37 -> 0
A30: =Anketa!B38&" "&Anketa!C38 -> 10.2 Nepārtraukta uzlabošana | B30: =Anketa!K38 -> 0
